BEGIN:VCALENDAR
PRODID:-//Microsoft Corporation//Outlook 16.0 MIMEDIR//EN
VERSION:2.0
METHOD:REQUEST
X-MS-OLK-FORCEINSPECTOROPEN:TRUE
BEGIN:VTIMEZONE
TZID:Eastern Standard Time
BEGIN:STANDARD
DTSTART:16011104T020000
RRULE:FREQ=YEARLY;BYDAY=1SU;BYMONTH=11
TZOFFSETFROM:-0400
TZOFFSETTO:-0500
END:STANDARD
BEGIN:DAYLIGHT
DTSTART:16010311T020000
RRULE:FREQ=YEARLY;BYDAY=2SU;BYMONTH=3
TZOFFSETFROM:-0500
TZOFFSETTO:-0400
END:DAYLIGHT
END:VTIMEZONE
BEGIN:VEVENT
ATTENDEE;CN="Gregory, Heather (GE Appliances, Haier)";RSVP=TRUE:mailto:Heat
	her.Gregory@geappliances.com
ATTENDEE;CN="Hare, David (GE Appliances, Haier)";RSVP=TRUE:mailto:David.Har
	e@geappliances.com
ATTENDEE;CN="Clark, Michele (GE Appliances)";RSVP=TRUE:mailto:Michele.Clark
	2@geappliances.com
ATTENDEE;CN="Wehby, Alina C (GE Appliances, Haier)";RSVP=TRUE:mailto:Alina.
	Wehby@geappliances.com
CLASS:PUBLIC
CREATED:20210415T141452Z
DESCRIPTION:The RISE Guest Speaker Series featuring Alina Wehby and Michele
	 Clark will be conducted via Teams on Thursday\, April 22nd from 12 pm –
	 1 pm EDT.\n\n \n\nClick here to join the MS Teams Live Event. <https://te
	ams.microsoft.com/l/meetup-join/19%3ameeting_ZDdkZmNlMDAtNTkyNC00Zjk4LTg1N
	TgtMmI4ZTFjMWMxYzFi%40thread.v2/0?context=%7b%22Tid%22%3a%2243c508cb-c533-
	4083-8105-775ae1eaf721%22%2c%22Oid%22%3a%2295189329-d78d-443e-8959-07002c0
	ca1ab%22%2c%22IsBroadcastMeeting%22%3atrue%7d&btype=a&role=a> \n\n \n\n***
	*********************************************************\n\nIf the hyperl
	ink above does not work\, please copy and paste this link into a web brows
	er:\n\n \n\nhttps://teams.microsoft.com/l/meetup-join/19%3ameeting_ZDdkZmN
	lMDAtNTkyNC00Zjk4LTg1NTgtMmI4ZTFjMWMxYzFi%40thread.v2/0?context=%7b%22Tid%
	22%3a%2243c508cb-c533-4083-8105-775ae1eaf721%22%2c%22Oid%22%3a%2295189329-
	d78d-443e-8959-07002c0ca1ab%22%2c%22IsBroadcastMeeting%22%3atrue%7d&btype=
	a&role=a\n\n \n\nQuestions? Contact learninganddevelopment@geappliances.co
	m <mailto:learninganddevelopment@geappliances.com>  \n\n \n\n
DTEND;TZID="Eastern Standard Time":20210422T130000
DTSTAMP:20210326T200931Z
DTSTART;TZID="Eastern Standard Time":20210422T120000
LAST-MODIFIED:20210415T141452Z
LOCATION:MS Teams Live Event (link provided in meeting request)
ORGANIZER;CN="~Appliances Learning & Development":mailto:learninganddevelop
	ment@geappliances.com
PRIORITY:5
SEQUENCE:0
SUMMARY;LANGUAGE=en-us:RISE Speaker Series: Resilience - Learn to Keep Movi
	ng Forward with Alina Wehby and Michele Clark
TRANSP:OPAQUE
UID:040000008200E00074C5B7101A82E008000000009006FC675A22D701000000000000000
	01000000054A9DED414E2D44CBA6B5A792A28E989
X-ALT-DESC;FMTTYPE=text/html:<html xmlns:v="urn:schemas-microsoft-com:vml" 
	xmlns:o="urn:schemas-microsoft-com:office:office" xmlns:w="urn:schemas-mic
	rosoft-com:office:word" xmlns:m="http://schemas.microsoft.com/office/2004/
	12/omml" xmlns="http://www.w3.org/TR/REC-html40"><head><meta name=Generato
	r content="Microsoft Word 15 (filtered medium)"><style><!--\n/* Font Defin
	itions */\n@font-face\n	{font-family:"Cambria Math"\;\n	panose-1:2 4 5 3 5
	 4 6 3 2 4\;}\n@font-face\n	{font-family:Calibri\;\n	panose-1:2 15 5 2 2 2
	 4 3 2 4\;}\n/* Style Definitions */\np.MsoNormal\, li.MsoNormal\, div.Mso
	Normal\n	{margin:0in\;\n	margin-bottom:.0001pt\;\n	font-size:11.0pt\;\n	fo
	nt-family:"Calibri"\,sans-serif\;}\na:link\, span.MsoHyperlink\n	{mso-styl
	e-priority:99\;\n	color:#0563C1\;\n	text-decoration:underline\;}\na:visite
	d\, span.MsoHyperlinkFollowed\n	{mso-style-priority:99\;\n	color:#954F72\;
	\n	text-decoration:underline\;}\nspan.EmailStyle17\n	{mso-style-type:perso
	nal-compose\;\n	font-family:"Calibri"\,sans-serif\;\n	color:windowtext\;}\
	n.MsoChpDefault\n	{mso-style-type:export-only\;\n	font-family:"Calibri"\,s
	ans-serif\;}\n@page WordSection1\n	{size:8.5in 11.0in\;\n	margin:1.0in 1.0
	in 1.0in 1.0in\;}\ndiv.WordSection1\n	{page:WordSection1\;}\n--></style><!
	--[if gte mso 9]><xml>\n<o:shapedefaults v:ext="edit" spidmax="1026" />\n<
	/xml><![endif]--><!--[if gte mso 9]><xml>\n<o:shapelayout v:ext="edit">\n<
	o:idmap v:ext="edit" data="1" />\n</o:shapelayout></xml><![endif]--></head
	><body lang=EN-US link="#0563C1" vlink="#954F72"><div class=WordSection1><
	p class=MsoNormal><span style='font-family:"Arial"\,sans-serif'>The RISE G
	uest Speaker Series featuring Alina Wehby and Michele Clark will be conduc
	ted via Teams on Thursday\, April 22<sup>nd</sup> from 12 pm &#8211\; 1 pm
	 EDT.<o:p></o:p></span></p><p class=MsoNormal><span style='font-family:"Ar
	ial"\,sans-serif'><o:p>&nbsp\;</o:p></span></p><p class=MsoNormal><span cl
	ass=MsoHyperlink><span style='font-family:"Arial"\,sans-serif'><a href="ht
	tps://teams.microsoft.com/l/meetup-join/19%3ameeting_ZDdkZmNlMDAtNTkyNC00Z
	jk4LTg1NTgtMmI4ZTFjMWMxYzFi%40thread.v2/0?context=%7b%22Tid%22%3a%2243c508
	cb-c533-4083-8105-775ae1eaf721%22%2c%22Oid%22%3a%2295189329-d78d-443e-8959
	-07002c0ca1ab%22%2c%22IsBroadcastMeeting%22%3atrue%7d&amp\;btype=a&amp\;ro
	le=a">Click here to join the MS Teams Live Event.</a></span></span><u><spa
	n style='font-family:"Arial"\,sans-serif\;color:#0563C1'><o:p></o:p></span
	></u></p><p class=MsoNormal><span style='font-family:"Arial"\,sans-serif'>
	<o:p>&nbsp\;</o:p></span></p><p class=MsoNormal><span style='font-family:"
	Arial"\,sans-serif'>******************************************************
	******<o:p></o:p></span></p><p class=MsoNormal><span style='font-family:"A
	rial"\,sans-serif'>If the hyperlink above does not work\, please copy and 
	paste this link into a web browser:<o:p></o:p></span></p><p class=MsoNorma
	l><span style='font-family:"Arial"\,sans-serif'><o:p>&nbsp\;</o:p></span><
	/p><p class=MsoNormal><span style='font-family:"Arial"\,sans-serif'><a hre
	f="https://teams.microsoft.com/l/meetup-join/19%3ameeting_ZDdkZmNlMDAtNTky
	NC00Zjk4LTg1NTgtMmI4ZTFjMWMxYzFi%40thread.v2/0?context=%7b%22Tid%22%3a%224
	3c508cb-c533-4083-8105-775ae1eaf721%22%2c%22Oid%22%3a%2295189329-d78d-443e
	-8959-07002c0ca1ab%22%2c%22IsBroadcastMeeting%22%3atrue%7d&amp\;btype=a&am
	p\;role=a">https://teams.microsoft.com/l/meetup-join/19%3ameeting_ZDdkZmNl
	MDAtNTkyNC00Zjk4LTg1NTgtMmI4ZTFjMWMxYzFi%40thread.v2/0?context=%7b%22Tid%2
	2%3a%2243c508cb-c533-4083-8105-775ae1eaf721%22%2c%22Oid%22%3a%2295189329-d
	78d-443e-8959-07002c0ca1ab%22%2c%22IsBroadcastMeeting%22%3atrue%7d&amp\;bt
	ype=a&amp\;role=a</a><o:p></o:p></span></p><p class=MsoNormal><span style=
	'font-family:"Arial"\,sans-serif'><o:p>&nbsp\;</o:p></span></p><p class=Ms
	oNormal><span style='font-family:"Arial"\,sans-serif'>Questions? Contact <
	a href="mailto:learninganddevelopment@geappliances.com">learninganddevelop
	ment@geappliances.com</a> <o:p></o:p></span></p><p class=MsoNormal><o:p>&n
	bsp\;</o:p></p></div></body></html>
X-MICROSOFT-CDO-BUSYSTATUS:BUSY
X-MICROSOFT-CDO-IMPORTANCE:1
X-MICROSOFT-DISALLOW-COUNTER:FALSE
X-MS-OLK-APPTSEQTIME:20210326T200931Z
X-MS-OLK-AUTOFILLLOCATION:FALSE
X-MS-OLK-CONFTYPE:0
BEGIN:VALARM
TRIGGER:-PT15M
ACTION:DISPLAY
DESCRIPTION:Reminder
END:VALARM
END:VEVENT
END:VCALENDAR
